BEGIN:VCALENDAR
VERSION:2.0
PRODID:-//Beverly Donofrio - ECPv6.15.1.1//NONSGML v1.0//EN
CALSCALE:GREGORIAN
METHOD:PUBLISH
X-ORIGINAL-URL:https://beverlydonofrio.com
X-WR-CALDESC:Events for Beverly Donofrio
REFRESH-INTERVAL;VALUE=DURATION:PT1H
X-Robots-Tag:noindex
X-PUBLISHED-TTL:PT1H
BEGIN:VTIMEZONE
TZID:America/New_York
BEGIN:DAYLIGHT
TZOFFSETFROM:-0500
TZOFFSETTO:-0400
TZNAME:EDT
DTSTART:20190310T070000
END:DAYLIGHT
BEGIN:STANDARD
TZOFFSETFROM:-0400
TZOFFSETTO:-0500
TZNAME:EST
DTSTART:20191103T060000
END:STANDARD
BEGIN:DAYLIGHT
TZOFFSETFROM:-0500
TZOFFSETTO:-0400
TZNAME:EDT
DTSTART:20200308T070000
END:DAYLIGHT
BEGIN:STANDARD
TZOFFSETFROM:-0400
TZOFFSETTO:-0500
TZNAME:EST
DTSTART:20201101T060000
END:STANDARD
BEGIN:DAYLIGHT
TZOFFSETFROM:-0500
TZOFFSETTO:-0400
TZNAME:EDT
DTSTART:20210314T070000
END:DAYLIGHT
BEGIN:STANDARD
TZOFFSETFROM:-0400
TZOFFSETTO:-0500
TZNAME:EST
DTSTART:20211107T060000
END:STANDARD
BEGIN:DAYLIGHT
TZOFFSETFROM:-0500
TZOFFSETTO:-0400
TZNAME:EDT
DTSTART:20220313T070000
END:DAYLIGHT
BEGIN:STANDARD
TZOFFSETFROM:-0400
TZOFFSETTO:-0500
TZNAME:EST
DTSTART:20221106T060000
END:STANDARD
BEGIN:DAYLIGHT
TZOFFSETFROM:-0500
TZOFFSETTO:-0400
TZNAME:EDT
DTSTART:20230312T070000
END:DAYLIGHT
BEGIN:STANDARD
TZOFFSETFROM:-0400
TZOFFSETTO:-0500
TZNAME:EST
DTSTART:20231105T060000
END:STANDARD
BEGIN:DAYLIGHT
TZOFFSETFROM:-0500
TZOFFSETTO:-0400
TZNAME:EDT
DTSTART:20240310T070000
END:DAYLIGHT
BEGIN:STANDARD
TZOFFSETFROM:-0400
TZOFFSETTO:-0500
TZNAME:EST
DTSTART:20241103T060000
END:STANDARD
BEGIN:DAYLIGHT
TZOFFSETFROM:-0500
TZOFFSETTO:-0400
TZNAME:EDT
DTSTART:20250309T070000
END:DAYLIGHT
BEGIN:STANDARD
TZOFFSETFROM:-0400
TZOFFSETTO:-0500
TZNAME:EST
DTSTART:20251102T060000
END:STANDARD
END:VTIMEZONE
BEGIN:VEVENT
DTSTART;TZID=America/New_York:20250405T140000
DTEND;TZID=America/New_York:20250407T160000
DTSTAMP:20260423T150041
CREATED:20241214T140635Z
LAST-MODIFIED:20250216T223659Z
UID:440-1743861600-1744041600@beverlydonofrio.com
SUMMARY:Writers and Wisdom Keepers:Illuminating a Path During Dark Times
DESCRIPTION:Come to Woodstock Bookfest\, April 3-6. This panel will take place on Saturday\, April 5\, 2025 at 2PM. Join these three exceptional writers\, Janus Adams\, Beverly Donofrio\, Abigail Thomas\, hosted by Gail Straub as they discuss how the wisdom that comes with aging influences their craft. As wisdom-keeper wordsmiths\, part of their role is to illuminate a path during dark times. Writers who keenly observe the world\, how do they steer clear of cynicism and despair\, political certainties and smug ideologies? Since writing and storytelling have long been known to ask essential questions about the human condition\, what are the questions we need to be asking now? And how does the artist’s imagination help cultivate an abiding humaneness and hope despite all the current challenges the world faces? \nEngage with three luminary authors in an exchange that promises to be both thought provoking and soul stirring!\nSee the panel description and read about all the panelists.
URL:https://beverlydonofrio.com/event/writers-and-wisdom-keepers-illuminating-a-path-during-dark-times/
LOCATION:Woodstock Community Center\, 56 Rock City Road\, Woodstock\, NY\, 12498\, United States
CATEGORIES:Speaking Engagement
ATTACH;FMTTYPE=image/png:https://beverlydonofrio.com/wp-content/uploads/2024/12/Spirituality-Panel-Woodstock-Bookfest-2025png.png
END:VEVENT
BEGIN:VEVENT
DTSTART;TZID=America/New_York:20190504T110000
DTEND;TZID=America/New_York:20190504T130000
DTSTAMP:20260423T150041
CREATED:20190210T130049Z
LAST-MODIFIED:20190214T152644Z
UID:46-1556967600-1556974800@beverlydonofrio.com
SUMMARY:Speaking Engagement | Otis Library | Norwalk\, CT
DESCRIPTION:Beverly Donofrio will talk about healing from trauma through writing.
URL:https://beverlydonofrio.com/event/speaking-engagement-otis-library-norwalk-ct/
LOCATION:Otis Library\, 261 Main Street\, Norwalk\, CT\, 06360\, United States
CATEGORIES:Speaking Engagement
END:VEVENT
END:VCALENDAR