BEGIN:VCALENDAR
VERSION:2.0
PRODID:-//Beverly Donofrio - ECPv6.15.1.1//NONSGML v1.0//EN
CALSCALE:GREGORIAN
METHOD:PUBLISH
X-ORIGINAL-URL:https://beverlydonofrio.com
X-WR-CALDESC:Events for Beverly Donofrio
REFRESH-INTERVAL;VALUE=DURATION:PT1H
X-Robots-Tag:noindex
X-PUBLISHED-TTL:PT1H
BEGIN:VTIMEZONE
TZID:America/New_York
BEGIN:DAYLIGHT
TZOFFSETFROM:-0500
TZOFFSETTO:-0400
TZNAME:EDT
DTSTART:20190310T070000
END:DAYLIGHT
BEGIN:STANDARD
TZOFFSETFROM:-0400
TZOFFSETTO:-0500
TZNAME:EST
DTSTART:20191103T060000
END:STANDARD
BEGIN:DAYLIGHT
TZOFFSETFROM:-0500
TZOFFSETTO:-0400
TZNAME:EDT
DTSTART:20200308T070000
END:DAYLIGHT
BEGIN:STANDARD
TZOFFSETFROM:-0400
TZOFFSETTO:-0500
TZNAME:EST
DTSTART:20201101T060000
END:STANDARD
BEGIN:DAYLIGHT
TZOFFSETFROM:-0500
TZOFFSETTO:-0400
TZNAME:EDT
DTSTART:20210314T070000
END:DAYLIGHT
BEGIN:STANDARD
TZOFFSETFROM:-0400
TZOFFSETTO:-0500
TZNAME:EST
DTSTART:20211107T060000
END:STANDARD
BEGIN:DAYLIGHT
TZOFFSETFROM:-0500
TZOFFSETTO:-0400
TZNAME:EDT
DTSTART:20220313T070000
END:DAYLIGHT
BEGIN:STANDARD
TZOFFSETFROM:-0400
TZOFFSETTO:-0500
TZNAME:EST
DTSTART:20221106T060000
END:STANDARD
BEGIN:DAYLIGHT
TZOFFSETFROM:-0500
TZOFFSETTO:-0400
TZNAME:EDT
DTSTART:20230312T070000
END:DAYLIGHT
BEGIN:STANDARD
TZOFFSETFROM:-0400
TZOFFSETTO:-0500
TZNAME:EST
DTSTART:20231105T060000
END:STANDARD
BEGIN:DAYLIGHT
TZOFFSETFROM:-0500
TZOFFSETTO:-0400
TZNAME:EDT
DTSTART:20240310T070000
END:DAYLIGHT
BEGIN:STANDARD
TZOFFSETFROM:-0400
TZOFFSETTO:-0500
TZNAME:EST
DTSTART:20241103T060000
END:STANDARD
BEGIN:DAYLIGHT
TZOFFSETFROM:-0500
TZOFFSETTO:-0400
TZNAME:EDT
DTSTART:20250309T070000
END:DAYLIGHT
BEGIN:STANDARD
TZOFFSETFROM:-0400
TZOFFSETTO:-0500
TZNAME:EST
DTSTART:20251102T060000
END:STANDARD
END:VTIMEZONE
BEGIN:VEVENT
DTSTART;TZID=America/New_York:20250926T170000
DTEND;TZID=America/New_York:20250928T133000
DTSTAMP:20260423T140710
CREATED:20240104T184119Z
LAST-MODIFIED:20241214T134852Z
UID:421-1758906000-1759066200@beverlydonofrio.com
SUMMARY:Your Life as Story
DESCRIPTION:Are you stuck\, looking for a way in\, unable to figure out how to proceed\, wondering how to make a compelling read from the raw material that is your life? To master memoirist Beverly Donofrio writing is about diving deep to find your truth\, and then shaping your experiences into a story that others will not want to put down: because your truth\, pain\, shame\, and obsessions help them face their own. And because telling your story not only has the potential to heal the teller but the reader too. \nBeverly will offer in-class exercises designed to unearth memory and approach your material in a safe\, fun\, and original way. She will instruct you in the craft of plot\, setting\, scene-writing\, and reflection; she will also teach you to move back and forth in time seamlessly and to write detailed\, visually descriptive language. \nSuggested Donation: $720 \nTo register\, please contact our Guesthouse Office by phone 845-384-6660\, ext. 3002 or email: guesthouse@hcmnet.org
URL:https://beverlydonofrio.com/event/your-life-as-story-2025/
LOCATION:Holy Cross Monastery\, 1615 Route 9W\, West Park\, New York\, 12493\, United States
CATEGORIES:Memoir Workshop,Writers Retreat
ATTACH;FMTTYPE=image/jpeg:https://beverlydonofrio.com/wp-content/uploads/2024/01/Beverly-Donofrio-Memoirist-Holy-Cross-Monastery-NEW-2025.jpg
END:VEVENT
BEGIN:VEVENT
DTSTART;TZID=America/New_York:20250713T080000
DTEND;TZID=America/New_York:20250718T170000
DTSTAMP:20260423T140710
CREATED:20241214T140917Z
LAST-MODIFIED:20250212T123602Z
UID:442-1752393600-1752858000@beverlydonofrio.com
SUMMARY:Diving Deep: The Art of Memoir
DESCRIPTION:Discover the life-changing potential of memoir writing in a workshop designed to take you deep into your heart and your past\, to mine your own life for the stories that need telling. \nDonofrio believes that writing heals. Writing exercises are designed to stimulate memories\, which you will learn to craft into compelling stories. It’s in the revising\, in the application of craft—scene writing\, using specificity and reflection\, moving around in time—that we are able to gain distance and reach deeper meaning\, insight and understanding\, compassion for ourselves and others\, and ultimately transformation. \nThrough in-class writing prompts\, overnight assignments\, and sharing your work\, you will not only learn craft but develop camaraderie and have fun. You may even find that what made you rage and cry now makes you laugh. \nWhen we take the time to write about our lives we see\, as Gerald Manley Hopkins put it so eloquently\, “The deep down of things.” All that is required is a strong desire and the courage to write the truth.  \nFor more information\, and to register\, go to the Omega Institute website.
URL:https://beverlydonofrio.com/event/diving-deep-the-art-of-memoir/
LOCATION:Omega Institute\, 150 Lake Drive\, Rhinebeck\, 12572\, United States
CATEGORIES:Memoir Workshop,Writers Retreat
ATTACH;FMTTYPE=image/jpeg:https://beverlydonofrio.com/wp-content/uploads/2024/01/Beverly-Donofrio-Memoirist-Holy-Cross-Monastery-NEW-2025.jpg
END:VEVENT
BEGIN:VEVENT
DTSTART;TZID=America/New_York:20250613T170000
DTEND;TZID=America/New_York:20250615T133000
DTSTAMP:20260423T140710
CREATED:20240104T183815Z
LAST-MODIFIED:20241214T135531Z
UID:423-1749834000-1749994200@beverlydonofrio.com
SUMMARY:Brevity in Form: The Art of the Short Essay
DESCRIPTION:In this workshop\, we will take a deep dive into crafting the short essay\, a moving and personal form with the emotional impact of a short story and the lyricism of poetry. We’ll read essays from masters and innovators and explore sources of inspiration\, from distant memories to pet peeves to impassioned beliefs. With the help of prompts\, you will write at a number of first drafts and then shape and revise at least one into a pitch perfect\, polished jewel. \nSuggested Donation: $720 \nTo register\, please contact our Guesthouse Office by phone 845-384-6660\, ext. 3002 or email: guesthouse@hcmnet.org
URL:https://beverlydonofrio.com/event/brevity-in-form-the-art-of-the-short-essay-holy-cross-monastery-west-park-new-york-2025/
LOCATION:Holy Cross Monastery\, 1615 Route 9W\, West Park\, New York\, 12493\, United States
CATEGORIES:Writers Retreat
ATTACH;FMTTYPE=image/jpeg:https://beverlydonofrio.com/wp-content/uploads/2024/01/Beverly-Donofrio-Memoirist-Holy-Cross-Monastery-NEW-2025.jpg
END:VEVENT
BEGIN:VEVENT
DTSTART;TZID=America/New_York:20240927T173000
DTEND;TZID=America/New_York:20240929T133000
DTSTAMP:20260423T140710
CREATED:20240917T161132Z
LAST-MODIFIED:20241214T140609Z
UID:416-1727458200-1727616600@beverlydonofrio.com
SUMMARY:Your Life as Story
DESCRIPTION:Are you stuck\, looking for a way in\, unable to figure out how to proceed\, wondering how to make a compelling read from the raw material that is your life? To master memoirist Beverly Donofrio writing is about diving deep to find your truth\, and then shaping your experiences into a story that others will not want to put down: because your truth\, pain\, shame\, and obsessions help them face their own. And because telling your story not only has the potential to heal the teller but the reader too. \nBeverly will offer in-class exercises designed to unearth memory and approach your material in a safe\, fun\, and original way. She will instruct you in the craft of plot\, setting\, scene-writing\, and reflection; she will also teach you to move back and forth in time seamlessly and to write detailed\, visually descriptive language. \nSuggested Donation: $720 \nTo register\, please contact our Guesthouse Office by phone 845-384-6660\, ext. 3002 or email: guesthouse@hcmnet.org
URL:https://beverlydonofrio.com/event/your-life-as-story-2/
LOCATION:Holy Cross Monastery\, 1615 Route 9W\, West Park\, New York\, 12493\, United States
CATEGORIES:Memoir Workshop,Writers Retreat
ATTACH;FMTTYPE=image/jpeg:https://beverlydonofrio.com/wp-content/uploads/2023/01/Beverly-Donofrio-Memoirist-Holy-Cross-Monastery-2019.jpg
END:VEVENT
BEGIN:VEVENT
DTSTART;TZID=America/New_York:20240524T170000
DTEND;TZID=America/New_York:20240526T133000
DTSTAMP:20260423T140710
CREATED:20240104T182915Z
LAST-MODIFIED:20240213T202628Z
UID:419-1716570000-1716730200@beverlydonofrio.com
SUMMARY:Brevity in Form: The Art of the Short Essay
DESCRIPTION:In this workshop\, we will take a deep dive into crafting the short essay\, a moving and personal form with the emotional impact of a short story and the lyricism of poetry. We’ll read essays from masters and innovators and explore sources of inspiration\, from distant memories to pet peeves to impassioned beliefs. With the help of prompts\, you will write a number of first drafts and then shape and revise at least one into a pitch perfect\, polished jewel. \nSuggested Donation: $720 \nTo register\, please contact our Guesthouse Office by phone 845-384-6660\, ext. 3002 or email: guesthouse@hcmnet.org
URL:https://beverlydonofrio.com/event/brevity-in-form-the-art-of-the-short-essay-holy-cross-monastery-west-park-new-york-2024/
LOCATION:Holy Cross Monastery\, 1615 Route 9W\, West Park\, New York\, 12493\, United States
CATEGORIES:Writers Retreat
ATTACH;FMTTYPE=image/jpeg:https://beverlydonofrio.com/wp-content/uploads/2023/01/Beverly-Donofrio-Memoirist-Holy-Cross-Monastery-2019.jpg
END:VEVENT
BEGIN:VEVENT
DTSTART;TZID=America/New_York:20230526T173000
DTEND;TZID=America/New_York:20230528T133000
DTSTAMP:20260423T140710
CREATED:20230117T170703Z
LAST-MODIFIED:20230117T170703Z
UID:411-1685122200-1685280600@beverlydonofrio.com
SUMMARY:Brevity in Form: The Art of the Short Essay | Holy Cross Monastery | West Park\, New York
DESCRIPTION:In this workshop\, we will take a deep dive into crafting the short essay\, a moving and personal form with the emotional impact of a short story and the lyricism of poetry. We’ll read essays from masters and innovators and explore sources of inspiration\, from distant memories to pet peeves to impassioned beliefs. With the help of prompts\, you will write at a number of first drafts and then shape and revise at least one into a pitch perfect\, polished jewel. \nSuggested Donation: $500 \nTo register\, please contact our Guesthouse Office by phone 845-384-6660\, ext. 3002 or email: guesthouse@hcmnet.org
URL:https://beverlydonofrio.com/event/brevity-in-form-the-art-of-the-short-essay-holy-cross-monastery-west-park-new-york/
LOCATION:Holy Cross Monastery\, 1615 Route 9W\, West Park\, New York\, 12493\, United States
CATEGORIES:Writers Retreat
ATTACH;FMTTYPE=image/jpeg:https://beverlydonofrio.com/wp-content/uploads/2023/01/Beverly-Donofrio-Memoirist-Holy-Cross-Monastery-2019.jpg
END:VEVENT
BEGIN:VEVENT
DTSTART;TZID=America/New_York:20220311T080000
DTEND;TZID=America/New_York:20220316T170000
DTSTAMP:20260423T140710
CREATED:20210527T181141Z
LAST-MODIFIED:20210527T181141Z
UID:406-1646985600-1647450000@beverlydonofrio.com
SUMMARY:Memoir Writing at Ossabaw Island Writers Retreat\, March 11 - 16\, 2022
DESCRIPTION:Join us for our 10th annual Winter Ossabaw Island Writers’ Retreat\, March 11-16\, 2022. \nWork with one of our critically acclaimed writers in a workshop limited to five qualified participants. Each day\, participants will bring manuscripts of their work-in-progress to their assigned workshop group where they will read\, discuss and receive feedback about their projects from fellow participants and the assigned group leader. Workshop manuscripts should be limited to 12 pages poetry/16-20 pages fiction or non-fiction. \nAll work and no play make for a dull day–therefore\, writers will have plenty of time to rest\, relax and explore the island during the morning and afternoons. In addition\, writers will meet with their faculty members one-on-one to discuss their manuscripts in detail. \nWORKSHOP PARTICIPATION: $2595 tuition covers six days and five nights lodging\, meals\, writing workshops\, one-on-one manuscript consultations with nationally recognized authors\, craft seminars\, readings\, visiting agents and publishers\, ferried transportation to the island\, and special hotel rates for those who wish to visit Savannah before or after the Retreat.
URL:https://beverlydonofrio.com/event/memoir-writing-at-ossabaw-island-writers-retreat-march-11-16-2022/
LOCATION:Ossabaw Island Writers’ Retreat\, GA\, United States
CATEGORIES:Memoir Workshop,Writers Retreat
ATTACH;FMTTYPE=image/jpeg:https://beverlydonofrio.com/wp-content/uploads/2021/05/Ossabaw-Island-Writers-Retreat-The-Program.jpg
END:VEVENT
BEGIN:VEVENT
DTSTART;TZID=America/New_York:20211119T080000
DTEND;TZID=America/New_York:20211121T170000
DTSTAMP:20260423T140710
CREATED:20210527T175423Z
LAST-MODIFIED:20210527T175423Z
UID:403-1637308800-1637514000@beverlydonofrio.com
SUMMARY:Your Life as Story | Holy Cross Monastery | West Park\, New York
DESCRIPTION:Beverly Donofrio has published three memoirs. Her first\, The New York Times bestseller\, Riding in Cars with Boys\, was made into a popular movie; her second\, Looking for Mary\, was chosen as a Barnes and Noble Discover Book; and her latest\, Astonished\, has been called astonishing. Her personal essays have appeared in many anthologies and periodicals\, including The New York Times\, Washington Post\, Los Angeles Times\, Spirituality and Health\, Oprah Magazine\, Huffington Post\, Slate\, LongReads\, Hippocampus\, and Brevity. Her NPR documentaries can be heard through Sound Portraits. She has taught creative nonfiction workshops internationally and across the United States and is currently on the faculty of the low-residency MFA program at Wilkes University. Ms. Donofrio lives in Woodstock\, NY. Visit beverlydonofrio.com to read some of her essays. \nAre you stuck\, looking for a way in\, unable to figure out how to proceed\, wondering how to make a compelling read from the raw material that is your life? To master memoirist Beverly Donofrio writing is about diving deep to find your truth\, and then shaping your experiences into a story that others will not want to put down: because your truth\, pain\, shame\, and obsessions help them face their own. And because telling your story not only has the potential to heal the teller but the reader too. \nBeverly will offer in-class exercises designed to unearth memory and approach your material in a safe\, fun\, and original way. She will instruct you in the craft of plot\, setting\, scene-writing\, and reflection; she will also teach you to move back and forth in time seamlessly and to write detailed\, visually descriptive language.
URL:https://beverlydonofrio.com/event/your-life-as-story-holy-cross-monastery-west-park-new-york-2/
LOCATION:Holy Cross Monastery\, 1615 Route 9W\, West Park\, New York\, 12493\, United States
CATEGORIES:Memoir Workshop,Writers Retreat
ATTACH;FMTTYPE=image/jpeg:https://beverlydonofrio.com/wp-content/uploads/2019/02/holy-cross-monastery-beverly-donofrio.jpg
END:VEVENT
BEGIN:VEVENT
DTSTART;TZID=America/New_York:20210920T080000
DTEND;TZID=America/New_York:20210924T170000
DTSTAMP:20260423T140710
CREATED:20210527T165548Z
LAST-MODIFIED:20210527T165951Z
UID:388-1632124800-1632502800@beverlydonofrio.com
SUMMARY:Looking for Mary Retreat with Bev Donofrio and Nancy Anderson
DESCRIPTION:To find out more details about registering for the workshop click here.\n 
URL:https://beverlydonofrio.com/event/looking-for-mary-retreat-with-bev-donofrio-and-nancy-anderson/
LOCATION:Bear Mountain Lodge\, Silver City\, NM\, United States
CATEGORIES:Memoir Workshop,Writers Retreat
END:VEVENT
BEGIN:VEVENT
DTSTART;TZID=America/New_York:20191006T090000
DTEND;TZID=America/New_York:20191013T130000
DTSTAMP:20260423T140710
CREATED:20190210T133822Z
LAST-MODIFIED:20190214T154053Z
UID:64-1570352400-1570971600@beverlydonofrio.com
SUMMARY:Diving Deep | Ghost Ranch | Abiquiu\, New Mexico
DESCRIPTION:Discover the life-changing potential of memoir writing in a workshop designed to take you deeper into your heart and your past\, to mine your own life for the stories that need telling. In a supportive environment\, through writing assignments\, sharing and discussion you will be taught how to write lively scenes\, develop voice\, make smooth transitions\, to transform dialogue as it is really spoken to pared down\, written dialogue with the ring of authenticity—for starters. You’ll create first drafts\, receive feedback and instruction\, and then re-write at least one piece\, using techniques that invite the reader to experience vicariously what you lived. When we take the time to write about our lives\, we see\, as Gerard Manley Hopkins put it so eloquently\, “The deep down of things.” Telling your story can be profound and transformative. All that is required is a strong desire and the courage to write the truth.
URL:https://beverlydonofrio.com/event/diving-deep-ghost-ranch-abiquiu-new-mexico/
LOCATION:Ghost Ranch\, 280 Private Drive 1708\, US-84\, Abiquiu\, NM\, 87510\, United States
CATEGORIES:Memoir Workshop,Writers Retreat
ATTACH;FMTTYPE=image/jpeg:https://beverlydonofrio.com/wp-content/uploads/2019/02/ghost-ranch-fall-writing-retreat.jpg
END:VEVENT
BEGIN:VEVENT
DTSTART;TZID=America/New_York:20190927T090000
DTEND;TZID=America/New_York:20190929T120000
DTSTAMP:20260423T140710
CREATED:20190210T134526Z
LAST-MODIFIED:20190303T220343Z
UID:66-1569574800-1569758400@beverlydonofrio.com
SUMMARY:Writing Memoir | Holy Cross Monastery | West Park\, New York
DESCRIPTION:Discover the life-changing potential of memoir writing in this weekend intensive designed to take both experienced writers and beginners deeper into their hearts and their pasts. A deeply spiritual act\, writing creates distance from which understanding takes root\, helping you to know yourself and examine how the events in your life have shaped you. Instructor Donofrio creates a supportive environment to help you tell your story\, teaching techniques to make your memories come alive on the page. You’ll create a first draft in class\, receive feedback and instruction\, and then rewrite it using scene-writing techniques that invite the reader straight into that moment of your life. Telling your story can be profound and transformative. All that is required is a strong desire and the courage to understand and to write the truth. \nLimited to 10 participants \nCall to reserve a space: 845.384.6660 or email: guesthouse@hcmnet.org
URL:https://beverlydonofrio.com/event/writing-memoir-holy-cross-monastery-west-park-new-york/
LOCATION:Holy Cross Monastery\, 1615 Route 9W\, West Park\, New York\, 12493\, United States
CATEGORIES:Memoir Workshop,Writers Retreat
ATTACH;FMTTYPE=image/jpeg:https://beverlydonofrio.com/wp-content/uploads/2019/02/holy-cross-monastery-beverly-donofrio.jpg
END:VEVENT
BEGIN:VEVENT
DTSTART;TZID=America/New_York:20190728T080000
DTEND;TZID=America/New_York:20190803T170000
DTSTAMP:20260423T140710
CREATED:20190210T132650Z
LAST-MODIFIED:20190214T200645Z
UID:59-1564300800-1564851600@beverlydonofrio.com
SUMMARY:Memoir Master Class | Ghost Ranch | Abiquiu\, New Mexico
DESCRIPTION:By invitation only.\nFor questions\, contact Bev at bevdonofrio@gmail.com
URL:https://beverlydonofrio.com/event/memoir-master-class-ghost-ranch-abiquiu-new-mexico/
LOCATION:Ghost Ranch\, 280 Private Drive 1708\, US-84\, Abiquiu\, NM\, 87510\, United States
CATEGORIES:Memoir Workshop,Writers Retreat
ATTACH;FMTTYPE=image/jpeg:https://beverlydonofrio.com/wp-content/uploads/2019/02/Ghost_Ranch-redrock-cliffs.jpg
END:VEVENT
BEGIN:VEVENT
DTSTART;TZID=America/New_York:20190630T090000
DTEND;TZID=America/New_York:20190705T130000
DTSTAMP:20260423T140710
CREATED:20190210T132156Z
LAST-MODIFIED:20190303T193123Z
UID:55-1561885200-1562331600@beverlydonofrio.com
SUMMARY:Get Some Writing Done | Omega Institute | Rhinebeck\, New York
DESCRIPTION:Put pen to paper—or fingers to keyboard—in this writing workshop with master memoirist Beverly Donofrio and novelist/memoirist Kaylie Jones. \nDonofrio and Jones believe that writing heals. Writing exercises are designed to stimulate memories\, which you will learn to craft into compelling stories. It’s in the revising\, in the application of craft—scene writing\, using specificity and reflection\, moving around in time—that we reach deeper meaning\, insight and understanding\, compassion for ourselves and others\, and ultimately transformation. \nWhether you are embarking on a novel\, writing essays\, or a book-length memoir\, our time-tested prompts will help you overcome roadblocks that in the past have prohibited your forward momentum\, and will help you organize your structure. \nThrough our in-class writing prompts\, overnight assignments\, and sharing your work\, you will not only learn craft but also develop camaraderie and have fun. You may even find that what made you rage and cry now makes you laugh. \nThroughout the workshop we engage in an ongoing discussion of the writing life and how to sustain it after we return home.
URL:https://beverlydonofrio.com/event/get-some-writing-done-omega-institute-rhinebeck-new-york/
LOCATION:Omega Institute\, 150 Lake Drive\, Rhinebeck\, 12572\, United States
CATEGORIES:Memoir Workshop,Writers Retreat
ATTACH;FMTTYPE=image/jpeg:https://beverlydonofrio.com/wp-content/uploads/2019/02/omega-institute-beverly-donofrio-memoir-workshop.jpg
END:VEVENT
BEGIN:VEVENT
DTSTART;TZID=America/New_York:20190308T090000
DTEND;TZID=America/New_York:20190310T120000
DTSTAMP:20260423T140710
CREATED:20190210T121144Z
LAST-MODIFIED:20190303T220056Z
UID:33-1552035600-1552219200@beverlydonofrio.com
SUMMARY:Your Life As Story | Holy Cross Monastery | West Park\, New York
DESCRIPTION:Are you stuck\, looking for a way in\, unable to figure out how to proceed\, wondering how to make a cohesive story and a compelling read from the raw material that is your life? To master memoirist Beverly Donofrio writing is about diving deep to find your truth\, and then shaping your experiences into a story others will not want to put down: because your truth\, pain\, shame\, obsessions\, help them face their own. And because telling your story not only has the potential to heal the teller\, but the reader\, too. \nBeverly will offer in-class exercises designed to unearth memory and approach your material in a safe\, fun\, and original way. She’ll instruct you in the craft of plot\, setting\, and reflection\, teach you how to move back and forth in time seamlessly and to write detailed\, visually descriptive language. Limited to 10 participants \nCall to reserve a space: 845.384.6660\, ext. 1 or email: guesthouse@hcmnet.org
URL:https://beverlydonofrio.com/event/your-life-as-story-holy-cross-monastery-west-park-new-york/
LOCATION:Holy Cross Monastery\, 1615 Route 9W\, West Park\, New York\, 12493\, United States
CATEGORIES:Memoir Workshop,Writers Retreat
ATTACH;FMTTYPE=image/jpeg:https://beverlydonofrio.com/wp-content/uploads/2019/02/holy-cross-monastery-beverly-donofrio.jpg
ORGANIZER;CN="":MAILTO:guesthouse@hcmnet.org
END:VEVENT
END:VCALENDAR